BEGIN:VCALENDAR
PRODID:-//eluceo/ical//2.0/EN
VERSION:2.0
CALSCALE:GREGORIAN
BEGIN:VEVENT
UID:da724c8bcf20a936d865464f214ca75d
DTSTAMP:20260422T082517Z
SUMMARY:V PREMIOS VELA A LA EXCELENCIA DE LOS TRABAJOS DE INVESTIGACIÓN DE
  BACHILLERATO
DESCRIPTION:
URL:https://castelldefels.rotary2202.es/es/agenda/show/705
DTSTART;TZID=Europe/Zurich:20250618T173000
DTEND;TZID=Europe/Zurich:20250618T190000
LOCATION:Can Llopart\, Centre Civic de Vista Alegre\, Carrer Mansió 31\, C
 astelldefels
CATEGORIES:Rotary
END:VEVENT
BEGIN:VTIMEZONE
TZID:Europe/Zurich
BEGIN:DAYLIGHT
DTSTART:20250618T173000
TZNAME:CEST
TZOFFSETTO:+0200
TZOFFSETFROM:+0200
END:DAYLIGHT
END:VTIMEZONE
END:VCALENDAR
